BEGIN:VCALENDAR
VERSION:2.0
PRODID:-//Hop Hounds - ECPv5.3.0//NONSGML v1.0//EN
CALSCALE:GREGORIAN
METHOD:PUBLISH
X-WR-CALNAME:Hop Hounds
X-ORIGINAL-URL:https://hophoundsmobile.com
X-WR-CALDESC:Events for Hop Hounds
BEGIN:VTIMEZONE
TZID:UTC
BEGIN:STANDARD
TZOFFSETFROM:+0000
TZOFFSETTO:+0000
TZNAME:UTC
DTSTART:20270101T000000
END:STANDARD
END:VTIMEZONE
BEGIN:VEVENT
DTSTART;VALUE=DATE:20270424
DTEND;VALUE=DATE:20270425
DTSTAMP:20260425T150919
CREATED:20210204T184326Z
LAST-MODIFIED:20210204T184326Z
UID:10260-1808524800-1808611199@hophoundsmobile.com
SUMMARY:Sticks & Stacks Open
DESCRIPTION:Sticks & Stacks Craft Eatery serves up premium burgers\, hot dogs and snacks. \nHours\nFriday: 4 p.m. – 9:30 p.m.\nSaturday: 11 a.m. – 9:30 p.m.\nSunday: 11 a.m. – 8:30 p.m.
URL:https://hophoundsmobile.com/event/sticks-stacks-open/2027-04-24/
ATTACH;FMTTYPE=image/jpeg:https://hophoundsmobile.com/wp-content/uploads/2021/01/Sticks-and-Stacks-Logo-4c-Tag.jpg
END:VEVENT
BEGIN:VEVENT
DTSTART;VALUE=DATE:20270424
DTEND;VALUE=DATE:20270425
DTSTAMP:20260425T150919
CREATED:20210204T184326Z
LAST-MODIFIED:20210204T184326Z
UID:10262-1808524800-1808611199@hophoundsmobile.com
SUMMARY:Sticks & Stacks Open
DESCRIPTION:Sticks & Stacks Craft Eatery serves up premium burgers\, hot dogs and snacks. \nHours\nFriday: 4 p.m. – 9:30 p.m.\nSaturday: 11 a.m. – 9:30 p.m.\nSunday: 11 a.m. – 8:30 p.m.
URL:https://hophoundsmobile.com/event/sticks-stacks-open/2027-04-24/
ATTACH;FMTTYPE=image/jpeg:https://hophoundsmobile.com/wp-content/uploads/2021/01/Sticks-and-Stacks-Logo-4c-Tag.jpg
END:VEVENT
BEGIN:VEVENT
DTSTART;VALUE=DATE:20270423
DTEND;VALUE=DATE:20270424
DTSTAMP:20260425T150919
CREATED:20210204T184326Z
LAST-MODIFIED:20210204T184326Z
UID:10259-1808438400-1808524799@hophoundsmobile.com
SUMMARY:Sticks & Stacks Open
DESCRIPTION:Sticks & Stacks Craft Eatery serves up premium burgers\, hot dogs and snacks. \nHours\nFriday: 4 p.m. – 9:30 p.m.\nSaturday: 11 a.m. – 9:30 p.m.\nSunday: 11 a.m. – 8:30 p.m.
URL:https://hophoundsmobile.com/event/sticks-stacks-open/2027-04-23/
ATTACH;FMTTYPE=image/jpeg:https://hophoundsmobile.com/wp-content/uploads/2021/01/Sticks-and-Stacks-Logo-4c-Tag.jpg
END:VEVENT
BEGIN:VEVENT
DTSTART;VALUE=DATE:20270423
DTEND;VALUE=DATE:20270424
DTSTAMP:20260425T150919
CREATED:20210204T184326Z
LAST-MODIFIED:20210204T184326Z
UID:10261-1808438400-1808524799@hophoundsmobile.com
SUMMARY:Sticks & Stacks Open
DESCRIPTION:Sticks & Stacks Craft Eatery serves up premium burgers\, hot dogs and snacks. \nHours\nFriday: 4 p.m. – 9:30 p.m.\nSaturday: 11 a.m. – 9:30 p.m.\nSunday: 11 a.m. – 8:30 p.m.
URL:https://hophoundsmobile.com/event/sticks-stacks-open/2027-04-23/
ATTACH;FMTTYPE=image/jpeg:https://hophoundsmobile.com/wp-content/uploads/2021/01/Sticks-and-Stacks-Logo-4c-Tag.jpg
END:VEVENT
BEGIN:VEVENT
DTSTART;VALUE=DATE:20270419
DTEND;VALUE=DATE:20270420
DTSTAMP:20260425T150919
CREATED:20201217T155752Z
LAST-MODIFIED:20201217T155752Z
UID:10257-1808092800-1808179199@hophoundsmobile.com
SUMMARY:Closed Mondays
DESCRIPTION:
URL:https://hophoundsmobile.com/event/closed-mondays/2027-04-19/
END:VEVENT
BEGIN:VEVENT
DTSTART;VALUE=DATE:20270418
DTEND;VALUE=DATE:20270419
DTSTAMP:20260425T150919
CREATED:20210204T184326Z
LAST-MODIFIED:20210204T184326Z
UID:10255-1808006400-1808092799@hophoundsmobile.com
SUMMARY:Sticks & Stacks Open
DESCRIPTION:Sticks & Stacks Craft Eatery serves up premium burgers\, hot dogs and snacks. \nHours\nFriday: 4 p.m. – 9:30 p.m.\nSaturday: 11 a.m. – 9:30 p.m.\nSunday: 11 a.m. – 8:30 p.m.
URL:https://hophoundsmobile.com/event/sticks-stacks-open/2027-04-18/
ATTACH;FMTTYPE=image/jpeg:https://hophoundsmobile.com/wp-content/uploads/2021/01/Sticks-and-Stacks-Logo-4c-Tag.jpg
END:VEVENT
BEGIN:VEVENT
DTSTART;VALUE=DATE:20270418
DTEND;VALUE=DATE:20270419
DTSTAMP:20260425T150919
CREATED:20210204T184326Z
LAST-MODIFIED:20210204T184326Z
UID:10256-1808006400-1808092799@hophoundsmobile.com
SUMMARY:Sticks & Stacks Open
DESCRIPTION:Sticks & Stacks Craft Eatery serves up premium burgers\, hot dogs and snacks. \nHours\nFriday: 4 p.m. – 9:30 p.m.\nSaturday: 11 a.m. – 9:30 p.m.\nSunday: 11 a.m. – 8:30 p.m.
URL:https://hophoundsmobile.com/event/sticks-stacks-open/2027-04-18/
ATTACH;FMTTYPE=image/jpeg:https://hophoundsmobile.com/wp-content/uploads/2021/01/Sticks-and-Stacks-Logo-4c-Tag.jpg
END:VEVENT
BEGIN:VEVENT
DTSTART;VALUE=DATE:20270417
DTEND;VALUE=DATE:20270418
DTSTAMP:20260425T150919
CREATED:20210204T184326Z
LAST-MODIFIED:20210204T184326Z
UID:10252-1807920000-1808006399@hophoundsmobile.com
SUMMARY:Sticks & Stacks Open
DESCRIPTION:Sticks & Stacks Craft Eatery serves up premium burgers\, hot dogs and snacks. \nHours\nFriday: 4 p.m. – 9:30 p.m.\nSaturday: 11 a.m. – 9:30 p.m.\nSunday: 11 a.m. – 8:30 p.m.
URL:https://hophoundsmobile.com/event/sticks-stacks-open/2027-04-17/
ATTACH;FMTTYPE=image/jpeg:https://hophoundsmobile.com/wp-content/uploads/2021/01/Sticks-and-Stacks-Logo-4c-Tag.jpg
END:VEVENT
BEGIN:VEVENT
DTSTART;VALUE=DATE:20270417
DTEND;VALUE=DATE:20270418
DTSTAMP:20260425T150919
CREATED:20210204T184326Z
LAST-MODIFIED:20210204T184326Z
UID:10254-1807920000-1808006399@hophoundsmobile.com
SUMMARY:Sticks & Stacks Open
DESCRIPTION:Sticks & Stacks Craft Eatery serves up premium burgers\, hot dogs and snacks. \nHours\nFriday: 4 p.m. – 9:30 p.m.\nSaturday: 11 a.m. – 9:30 p.m.\nSunday: 11 a.m. – 8:30 p.m.
URL:https://hophoundsmobile.com/event/sticks-stacks-open/2027-04-17/
ATTACH;FMTTYPE=image/jpeg:https://hophoundsmobile.com/wp-content/uploads/2021/01/Sticks-and-Stacks-Logo-4c-Tag.jpg
END:VEVENT
BEGIN:VEVENT
DTSTART;VALUE=DATE:20270416
DTEND;VALUE=DATE:20270417
DTSTAMP:20260425T150919
CREATED:20210204T184326Z
LAST-MODIFIED:20210204T184326Z
UID:10251-1807833600-1807919999@hophoundsmobile.com
SUMMARY:Sticks & Stacks Open
DESCRIPTION:Sticks & Stacks Craft Eatery serves up premium burgers\, hot dogs and snacks. \nHours\nFriday: 4 p.m. – 9:30 p.m.\nSaturday: 11 a.m. – 9:30 p.m.\nSunday: 11 a.m. – 8:30 p.m.
URL:https://hophoundsmobile.com/event/sticks-stacks-open/2027-04-16/
ATTACH;FMTTYPE=image/jpeg:https://hophoundsmobile.com/wp-content/uploads/2021/01/Sticks-and-Stacks-Logo-4c-Tag.jpg
END:VEVENT
BEGIN:VEVENT
DTSTART;VALUE=DATE:20270416
DTEND;VALUE=DATE:20270417
DTSTAMP:20260425T150919
CREATED:20210204T184326Z
LAST-MODIFIED:20210204T184326Z
UID:10253-1807833600-1807919999@hophoundsmobile.com
SUMMARY:Sticks & Stacks Open
DESCRIPTION:Sticks & Stacks Craft Eatery serves up premium burgers\, hot dogs and snacks. \nHours\nFriday: 4 p.m. – 9:30 p.m.\nSaturday: 11 a.m. – 9:30 p.m.\nSunday: 11 a.m. – 8:30 p.m.
URL:https://hophoundsmobile.com/event/sticks-stacks-open/2027-04-16/
ATTACH;FMTTYPE=image/jpeg:https://hophoundsmobile.com/wp-content/uploads/2021/01/Sticks-and-Stacks-Logo-4c-Tag.jpg
END:VEVENT
BEGIN:VEVENT
DTSTART;VALUE=DATE:20270412
DTEND;VALUE=DATE:20270413
DTSTAMP:20260425T150919
CREATED:20201217T155752Z
LAST-MODIFIED:20201217T155752Z
UID:10249-1807488000-1807574399@hophoundsmobile.com
SUMMARY:Closed Mondays
DESCRIPTION:
URL:https://hophoundsmobile.com/event/closed-mondays/2027-04-12/
END:VEVENT
BEGIN:VEVENT
DTSTART;VALUE=DATE:20270411
DTEND;VALUE=DATE:20270412
DTSTAMP:20260425T150919
CREATED:20210204T184326Z
LAST-MODIFIED:20210204T184326Z
UID:10247-1807401600-1807487999@hophoundsmobile.com
SUMMARY:Sticks & Stacks Open
DESCRIPTION:Sticks & Stacks Craft Eatery serves up premium burgers\, hot dogs and snacks. \nHours\nFriday: 4 p.m. – 9:30 p.m.\nSaturday: 11 a.m. – 9:30 p.m.\nSunday: 11 a.m. – 8:30 p.m.
URL:https://hophoundsmobile.com/event/sticks-stacks-open/2027-04-11/
ATTACH;FMTTYPE=image/jpeg:https://hophoundsmobile.com/wp-content/uploads/2021/01/Sticks-and-Stacks-Logo-4c-Tag.jpg
END:VEVENT
BEGIN:VEVENT
DTSTART;VALUE=DATE:20270411
DTEND;VALUE=DATE:20270412
DTSTAMP:20260425T150919
CREATED:20210204T184326Z
LAST-MODIFIED:20210204T184326Z
UID:10248-1807401600-1807487999@hophoundsmobile.com
SUMMARY:Sticks & Stacks Open
DESCRIPTION:Sticks & Stacks Craft Eatery serves up premium burgers\, hot dogs and snacks. \nHours\nFriday: 4 p.m. – 9:30 p.m.\nSaturday: 11 a.m. – 9:30 p.m.\nSunday: 11 a.m. – 8:30 p.m.
URL:https://hophoundsmobile.com/event/sticks-stacks-open/2027-04-11/
ATTACH;FMTTYPE=image/jpeg:https://hophoundsmobile.com/wp-content/uploads/2021/01/Sticks-and-Stacks-Logo-4c-Tag.jpg
END:VEVENT
BEGIN:VEVENT
DTSTART;VALUE=DATE:20270410
DTEND;VALUE=DATE:20270411
DTSTAMP:20260425T150919
CREATED:20210204T184326Z
LAST-MODIFIED:20210204T184326Z
UID:10244-1807315200-1807401599@hophoundsmobile.com
SUMMARY:Sticks & Stacks Open
DESCRIPTION:Sticks & Stacks Craft Eatery serves up premium burgers\, hot dogs and snacks. \nHours\nFriday: 4 p.m. – 9:30 p.m.\nSaturday: 11 a.m. – 9:30 p.m.\nSunday: 11 a.m. – 8:30 p.m.
URL:https://hophoundsmobile.com/event/sticks-stacks-open/2027-04-10/
ATTACH;FMTTYPE=image/jpeg:https://hophoundsmobile.com/wp-content/uploads/2021/01/Sticks-and-Stacks-Logo-4c-Tag.jpg
END:VEVENT
BEGIN:VEVENT
DTSTART;VALUE=DATE:20270410
DTEND;VALUE=DATE:20270411
DTSTAMP:20260425T150919
CREATED:20210204T184326Z
LAST-MODIFIED:20210204T184326Z
UID:10246-1807315200-1807401599@hophoundsmobile.com
SUMMARY:Sticks & Stacks Open
DESCRIPTION:Sticks & Stacks Craft Eatery serves up premium burgers\, hot dogs and snacks. \nHours\nFriday: 4 p.m. – 9:30 p.m.\nSaturday: 11 a.m. – 9:30 p.m.\nSunday: 11 a.m. – 8:30 p.m.
URL:https://hophoundsmobile.com/event/sticks-stacks-open/2027-04-10/
ATTACH;FMTTYPE=image/jpeg:https://hophoundsmobile.com/wp-content/uploads/2021/01/Sticks-and-Stacks-Logo-4c-Tag.jpg
END:VEVENT
BEGIN:VEVENT
DTSTART;VALUE=DATE:20270409
DTEND;VALUE=DATE:20270410
DTSTAMP:20260425T150919
CREATED:20210204T184326Z
LAST-MODIFIED:20210204T184326Z
UID:10243-1807228800-1807315199@hophoundsmobile.com
SUMMARY:Sticks & Stacks Open
DESCRIPTION:Sticks & Stacks Craft Eatery serves up premium burgers\, hot dogs and snacks. \nHours\nFriday: 4 p.m. – 9:30 p.m.\nSaturday: 11 a.m. – 9:30 p.m.\nSunday: 11 a.m. – 8:30 p.m.
URL:https://hophoundsmobile.com/event/sticks-stacks-open/2027-04-09/
ATTACH;FMTTYPE=image/jpeg:https://hophoundsmobile.com/wp-content/uploads/2021/01/Sticks-and-Stacks-Logo-4c-Tag.jpg
END:VEVENT
BEGIN:VEVENT
DTSTART;VALUE=DATE:20270409
DTEND;VALUE=DATE:20270410
DTSTAMP:20260425T150919
CREATED:20210204T184326Z
LAST-MODIFIED:20210204T184326Z
UID:10245-1807228800-1807315199@hophoundsmobile.com
SUMMARY:Sticks & Stacks Open
DESCRIPTION:Sticks & Stacks Craft Eatery serves up premium burgers\, hot dogs and snacks. \nHours\nFriday: 4 p.m. – 9:30 p.m.\nSaturday: 11 a.m. – 9:30 p.m.\nSunday: 11 a.m. – 8:30 p.m.
URL:https://hophoundsmobile.com/event/sticks-stacks-open/2027-04-09/
ATTACH;FMTTYPE=image/jpeg:https://hophoundsmobile.com/wp-content/uploads/2021/01/Sticks-and-Stacks-Logo-4c-Tag.jpg
END:VEVENT
BEGIN:VEVENT
DTSTART;VALUE=DATE:20270405
DTEND;VALUE=DATE:20270406
DTSTAMP:20260425T150919
CREATED:20201217T155752Z
LAST-MODIFIED:20201217T155752Z
UID:10241-1806883200-1806969599@hophoundsmobile.com
SUMMARY:Closed Mondays
DESCRIPTION:
URL:https://hophoundsmobile.com/event/closed-mondays/2027-04-05/
END:VEVENT
BEGIN:VEVENT
DTSTART;VALUE=DATE:20270404
DTEND;VALUE=DATE:20270405
DTSTAMP:20260425T150919
CREATED:20210204T184326Z
LAST-MODIFIED:20210204T184326Z
UID:10239-1806796800-1806883199@hophoundsmobile.com
SUMMARY:Sticks & Stacks Open
DESCRIPTION:Sticks & Stacks Craft Eatery serves up premium burgers\, hot dogs and snacks. \nHours\nFriday: 4 p.m. – 9:30 p.m.\nSaturday: 11 a.m. – 9:30 p.m.\nSunday: 11 a.m. – 8:30 p.m.
URL:https://hophoundsmobile.com/event/sticks-stacks-open/2027-04-04/
ATTACH;FMTTYPE=image/jpeg:https://hophoundsmobile.com/wp-content/uploads/2021/01/Sticks-and-Stacks-Logo-4c-Tag.jpg
END:VEVENT
BEGIN:VEVENT
DTSTART;VALUE=DATE:20270404
DTEND;VALUE=DATE:20270405
DTSTAMP:20260425T150919
CREATED:20210204T184326Z
LAST-MODIFIED:20210204T184326Z
UID:10240-1806796800-1806883199@hophoundsmobile.com
SUMMARY:Sticks & Stacks Open
DESCRIPTION:Sticks & Stacks Craft Eatery serves up premium burgers\, hot dogs and snacks. \nHours\nFriday: 4 p.m. – 9:30 p.m.\nSaturday: 11 a.m. – 9:30 p.m.\nSunday: 11 a.m. – 8:30 p.m.
URL:https://hophoundsmobile.com/event/sticks-stacks-open/2027-04-04/
ATTACH;FMTTYPE=image/jpeg:https://hophoundsmobile.com/wp-content/uploads/2021/01/Sticks-and-Stacks-Logo-4c-Tag.jpg
END:VEVENT
BEGIN:VEVENT
DTSTART;VALUE=DATE:20270403
DTEND;VALUE=DATE:20270404
DTSTAMP:20260425T150919
CREATED:20210204T184326Z
LAST-MODIFIED:20210204T184326Z
UID:10236-1806710400-1806796799@hophoundsmobile.com
SUMMARY:Sticks & Stacks Open
DESCRIPTION:Sticks & Stacks Craft Eatery serves up premium burgers\, hot dogs and snacks. \nHours\nFriday: 4 p.m. – 9:30 p.m.\nSaturday: 11 a.m. – 9:30 p.m.\nSunday: 11 a.m. – 8:30 p.m.
URL:https://hophoundsmobile.com/event/sticks-stacks-open/2027-04-03/
ATTACH;FMTTYPE=image/jpeg:https://hophoundsmobile.com/wp-content/uploads/2021/01/Sticks-and-Stacks-Logo-4c-Tag.jpg
END:VEVENT
BEGIN:VEVENT
DTSTART;VALUE=DATE:20270403
DTEND;VALUE=DATE:20270404
DTSTAMP:20260425T150919
CREATED:20210204T184326Z
LAST-MODIFIED:20210204T184326Z
UID:10238-1806710400-1806796799@hophoundsmobile.com
SUMMARY:Sticks & Stacks Open
DESCRIPTION:Sticks & Stacks Craft Eatery serves up premium burgers\, hot dogs and snacks. \nHours\nFriday: 4 p.m. – 9:30 p.m.\nSaturday: 11 a.m. – 9:30 p.m.\nSunday: 11 a.m. – 8:30 p.m.
URL:https://hophoundsmobile.com/event/sticks-stacks-open/2027-04-03/
ATTACH;FMTTYPE=image/jpeg:https://hophoundsmobile.com/wp-content/uploads/2021/01/Sticks-and-Stacks-Logo-4c-Tag.jpg
END:VEVENT
BEGIN:VEVENT
DTSTART;VALUE=DATE:20270402
DTEND;VALUE=DATE:20270403
DTSTAMP:20260425T150919
CREATED:20210204T184326Z
LAST-MODIFIED:20210204T184326Z
UID:10235-1806624000-1806710399@hophoundsmobile.com
SUMMARY:Sticks & Stacks Open
DESCRIPTION:Sticks & Stacks Craft Eatery serves up premium burgers\, hot dogs and snacks. \nHours\nFriday: 4 p.m. – 9:30 p.m.\nSaturday: 11 a.m. – 9:30 p.m.\nSunday: 11 a.m. – 8:30 p.m.
URL:https://hophoundsmobile.com/event/sticks-stacks-open/2027-04-02/
ATTACH;FMTTYPE=image/jpeg:https://hophoundsmobile.com/wp-content/uploads/2021/01/Sticks-and-Stacks-Logo-4c-Tag.jpg
END:VEVENT
BEGIN:VEVENT
DTSTART;VALUE=DATE:20270402
DTEND;VALUE=DATE:20270403
DTSTAMP:20260425T150919
CREATED:20210204T184326Z
LAST-MODIFIED:20210204T184326Z
UID:10237-1806624000-1806710399@hophoundsmobile.com
SUMMARY:Sticks & Stacks Open
DESCRIPTION:Sticks & Stacks Craft Eatery serves up premium burgers\, hot dogs and snacks. \nHours\nFriday: 4 p.m. – 9:30 p.m.\nSaturday: 11 a.m. – 9:30 p.m.\nSunday: 11 a.m. – 8:30 p.m.
URL:https://hophoundsmobile.com/event/sticks-stacks-open/2027-04-02/
ATTACH;FMTTYPE=image/jpeg:https://hophoundsmobile.com/wp-content/uploads/2021/01/Sticks-and-Stacks-Logo-4c-Tag.jpg
END:VEVENT
BEGIN:VEVENT
DTSTART;VALUE=DATE:20270329
DTEND;VALUE=DATE:20270330
DTSTAMP:20260425T150919
CREATED:20201217T155752Z
LAST-MODIFIED:20201217T155752Z
UID:10233-1806278400-1806364799@hophoundsmobile.com
SUMMARY:Closed Mondays
DESCRIPTION:
URL:https://hophoundsmobile.com/event/closed-mondays/2027-03-29/
END:VEVENT
BEGIN:VEVENT
DTSTART;VALUE=DATE:20270328
DTEND;VALUE=DATE:20270329
DTSTAMP:20260425T150919
CREATED:20210204T184326Z
LAST-MODIFIED:20210204T184326Z
UID:10231-1806192000-1806278399@hophoundsmobile.com
SUMMARY:Sticks & Stacks Open
DESCRIPTION:Sticks & Stacks Craft Eatery serves up premium burgers\, hot dogs and snacks. \nHours\nFriday: 4 p.m. – 9:30 p.m.\nSaturday: 11 a.m. – 9:30 p.m.\nSunday: 11 a.m. – 8:30 p.m.
URL:https://hophoundsmobile.com/event/sticks-stacks-open/2027-03-28/
ATTACH;FMTTYPE=image/jpeg:https://hophoundsmobile.com/wp-content/uploads/2021/01/Sticks-and-Stacks-Logo-4c-Tag.jpg
END:VEVENT
BEGIN:VEVENT
DTSTART;VALUE=DATE:20270328
DTEND;VALUE=DATE:20270329
DTSTAMP:20260425T150919
CREATED:20210204T184326Z
LAST-MODIFIED:20210204T184326Z
UID:10232-1806192000-1806278399@hophoundsmobile.com
SUMMARY:Sticks & Stacks Open
DESCRIPTION:Sticks & Stacks Craft Eatery serves up premium burgers\, hot dogs and snacks. \nHours\nFriday: 4 p.m. – 9:30 p.m.\nSaturday: 11 a.m. – 9:30 p.m.\nSunday: 11 a.m. – 8:30 p.m.
URL:https://hophoundsmobile.com/event/sticks-stacks-open/2027-03-28/
ATTACH;FMTTYPE=image/jpeg:https://hophoundsmobile.com/wp-content/uploads/2021/01/Sticks-and-Stacks-Logo-4c-Tag.jpg
END:VEVENT
BEGIN:VEVENT
DTSTART;VALUE=DATE:20270327
DTEND;VALUE=DATE:20270328
DTSTAMP:20260425T150919
CREATED:20210204T184326Z
LAST-MODIFIED:20210204T184326Z
UID:10228-1806105600-1806191999@hophoundsmobile.com
SUMMARY:Sticks & Stacks Open
DESCRIPTION:Sticks & Stacks Craft Eatery serves up premium burgers\, hot dogs and snacks. \nHours\nFriday: 4 p.m. – 9:30 p.m.\nSaturday: 11 a.m. – 9:30 p.m.\nSunday: 11 a.m. – 8:30 p.m.
URL:https://hophoundsmobile.com/event/sticks-stacks-open/2027-03-27/
ATTACH;FMTTYPE=image/jpeg:https://hophoundsmobile.com/wp-content/uploads/2021/01/Sticks-and-Stacks-Logo-4c-Tag.jpg
END:VEVENT
BEGIN:VEVENT
DTSTART;VALUE=DATE:20270327
DTEND;VALUE=DATE:20270328
DTSTAMP:20260425T150919
CREATED:20210204T184326Z
LAST-MODIFIED:20210204T184326Z
UID:10230-1806105600-1806191999@hophoundsmobile.com
SUMMARY:Sticks & Stacks Open
DESCRIPTION:Sticks & Stacks Craft Eatery serves up premium burgers\, hot dogs and snacks. \nHours\nFriday: 4 p.m. – 9:30 p.m.\nSaturday: 11 a.m. – 9:30 p.m.\nSunday: 11 a.m. – 8:30 p.m.
URL:https://hophoundsmobile.com/event/sticks-stacks-open/2027-03-27/
ATTACH;FMTTYPE=image/jpeg:https://hophoundsmobile.com/wp-content/uploads/2021/01/Sticks-and-Stacks-Logo-4c-Tag.jpg
END:VEVENT
END:VCALENDAR